BEGIN:VCALENDAR
VERSION:2.0
PRODID:-//Gemeinde Wöbbelin - ECPv6.15.20//NONSGML v1.0//EN
CALSCALE:GREGORIAN
METHOD:PUBLISH
X-WR-CALNAME:Gemeinde Wöbbelin
X-ORIGINAL-URL:https://woebbelin.de
X-WR-CALDESC:Veranstaltungen für Gemeinde Wöbbelin
REFRESH-INTERVAL;VALUE=DURATION:PT1H
X-Robots-Tag:noindex
X-PUBLISHED-TTL:PT1H
BEGIN:VTIMEZONE
TZID:Europe/Berlin
BEGIN:DAYLIGHT
TZOFFSETFROM:+0100
TZOFFSETTO:+0200
TZNAME:CEST
DTSTART:20250330T010000
END:DAYLIGHT
BEGIN:STANDARD
TZOFFSETFROM:+0200
TZOFFSETTO:+0100
TZNAME:CET
DTSTART:20251026T010000
END:STANDARD
BEGIN:DAYLIGHT
TZOFFSETFROM:+0100
TZOFFSETTO:+0200
TZNAME:CEST
DTSTART:20260329T010000
END:DAYLIGHT
BEGIN:STANDARD
TZOFFSETFROM:+0200
TZOFFSETTO:+0100
TZNAME:CET
DTSTART:20261025T010000
END:STANDARD
BEGIN:DAYLIGHT
TZOFFSETFROM:+0100
TZOFFSETTO:+0200
TZNAME:CEST
DTSTART:20270328T010000
END:DAYLIGHT
BEGIN:STANDARD
TZOFFSETFROM:+0200
TZOFFSETTO:+0100
TZNAME:CET
DTSTART:20271031T010000
END:STANDARD
END:VTIMEZONE
BEGIN:VEVENT
DTSTART;TZID=Europe/Berlin:20261106T170000
DTEND;TZID=Europe/Berlin:20261106T200000
DTSTAMP:20260423T134844
CREATED:20260110T185730Z
LAST-MODIFIED:20260110T185730Z
UID:2592-1793984400-1793995200@woebbelin.de
SUMMARY:Ein Abend voller Lichter und Atmosphäre
DESCRIPTION:Lichterfest \nDie Gemeinde lädt herzlich zum Lichterfest ein! \nFreuen Sie sich auf einen zauberhaften Abend mit stimmungsvoller Beleuchtung\, Musik und gemütlichem Beisammensein. \nFür Speisen\, Getränke und herbstliche Atmosphäre ist gesorgt. Ein Event für die ganze Familie\, das Licht\, Freude und Gemeinschaft verbindet.
URL:https://woebbelin.de/events/ein-abend-voller-lichter-und-atmosphaere/
LOCATION:Dorfgemeinschaftshaus
END:VEVENT
BEGIN:VEVENT
DTSTART;VALUE=DATE:20261128
DTEND;VALUE=DATE:20261129
DTSTAMP:20260423T134844
CREATED:20260110T190134Z
LAST-MODIFIED:20260110T190134Z
UID:2594-1795824000-1795910399@woebbelin.de
SUMMARY:Gemeinsam die Adventszeit erleben
DESCRIPTION:Weihnachtsmarkt \nDie Gemeinde lädt herzlich zum Weihnachtsmarkt ein! \nFreuen Sie sich auf stimmungsvolle Buden\, festliche Dekorationen und kleinen Leckereien. Für Groß und Klein gibt es weihnachtliche Angebote und Musik. \nGenießen Sie einen festlichen Nachmittag und Abend in gemütlicher Atmosphäre und stimmen Sie sich gemeinsam mit Familie und Nachbar*innen auf die Adventszeit ein. \nACHTUNG: Der Veranstaltungsbeginn wird rechtzeitig bekannt gegeben!
URL:https://woebbelin.de/events/gemeinsam-die-adventszeit-erleben/
LOCATION:Grundschule Wöbbelin
END:VEVENT
END:VCALENDAR