BEGIN:VCALENDAR
VERSION:2.0
PRODID:-//Gemeinde Wöbbelin - ECPv6.15.20//NONSGML v1.0//EN
CALSCALE:GREGORIAN
METHOD:PUBLISH
X-WR-CALNAME:Gemeinde Wöbbelin
X-ORIGINAL-URL:https://woebbelin.de
X-WR-CALDESC:Veranstaltungen für Gemeinde Wöbbelin
REFRESH-INTERVAL;VALUE=DURATION:PT1H
X-Robots-Tag:noindex
X-PUBLISHED-TTL:PT1H
BEGIN:VTIMEZONE
TZID:Europe/Berlin
BEGIN:DAYLIGHT
TZOFFSETFROM:+0100
TZOFFSETTO:+0200
TZNAME:CEST
DTSTART:20250330T010000
END:DAYLIGHT
BEGIN:STANDARD
TZOFFSETFROM:+0200
TZOFFSETTO:+0100
TZNAME:CET
DTSTART:20251026T010000
END:STANDARD
BEGIN:DAYLIGHT
TZOFFSETFROM:+0100
TZOFFSETTO:+0200
TZNAME:CEST
DTSTART:20260329T010000
END:DAYLIGHT
BEGIN:STANDARD
TZOFFSETFROM:+0200
TZOFFSETTO:+0100
TZNAME:CET
DTSTART:20261025T010000
END:STANDARD
BEGIN:DAYLIGHT
TZOFFSETFROM:+0100
TZOFFSETTO:+0200
TZNAME:CEST
DTSTART:20270328T010000
END:DAYLIGHT
BEGIN:STANDARD
TZOFFSETFROM:+0200
TZOFFSETTO:+0100
TZNAME:CET
DTSTART:20271031T010000
END:STANDARD
END:VTIMEZONE
BEGIN:VEVENT
DTSTART;VALUE=DATE:20261003
DTEND;VALUE=DATE:20261004
DTSTAMP:20260423T122722
CREATED:20260110T185005Z
LAST-MODIFIED:20260110T185005Z
UID:2587-1790985600-1791071999@woebbelin.de
SUMMARY:Gemeinsam den Herbst begrüßen
DESCRIPTION:Herbstfeuer \nDie Gemeinde lädt herzlich zum traditionellen Herbstfeuer ein. \nGenießen Sie einen gemütlichen Abend in geselliger Runde\, erleben Sie das Knistern des Feuers und lassen Sie den Tag in entspannter Atmosphäre ausklingen. \nFür Speisen\, Getränke und gute Stimmung ist gesorgt. Ein Abend für Jung und Alt\, um den Herbst gemeinsam zu feiern. \nACHTUNG: Die genauen Daten zu Veranstaltungsort und Beginn der Veranstaltung werden rechtzeitig bekannt gegeben!
URL:https://woebbelin.de/events/gemeinsam-den-herbst-begruessen/
END:VEVENT
END:VCALENDAR