BEGIN:VCALENDAR
VERSION:2.0
PRODID:-//Gemeinde Wöbbelin - ECPv6.15.20//NONSGML v1.0//EN
CALSCALE:GREGORIAN
METHOD:PUBLISH
X-WR-CALNAME:Gemeinde Wöbbelin
X-ORIGINAL-URL:https://woebbelin.de
X-WR-CALDESC:Veranstaltungen für Gemeinde Wöbbelin
REFRESH-INTERVAL;VALUE=DURATION:PT1H
X-Robots-Tag:noindex
X-PUBLISHED-TTL:PT1H
BEGIN:VTIMEZONE
TZID:Europe/Berlin
BEGIN:DAYLIGHT
TZOFFSETFROM:+0100
TZOFFSETTO:+0200
TZNAME:CEST
DTSTART:20250330T010000
END:DAYLIGHT
BEGIN:STANDARD
TZOFFSETFROM:+0200
TZOFFSETTO:+0100
TZNAME:CET
DTSTART:20251026T010000
END:STANDARD
BEGIN:DAYLIGHT
TZOFFSETFROM:+0100
TZOFFSETTO:+0200
TZNAME:CEST
DTSTART:20260329T010000
END:DAYLIGHT
BEGIN:STANDARD
TZOFFSETFROM:+0200
TZOFFSETTO:+0100
TZNAME:CET
DTSTART:20261025T010000
END:STANDARD
BEGIN:DAYLIGHT
TZOFFSETFROM:+0100
TZOFFSETTO:+0200
TZNAME:CEST
DTSTART:20270328T010000
END:DAYLIGHT
BEGIN:STANDARD
TZOFFSETFROM:+0200
TZOFFSETTO:+0100
TZNAME:CET
DTSTART:20271031T010000
END:STANDARD
END:VTIMEZONE
BEGIN:VEVENT
DTSTART;TZID=Europe/Berlin:20260828T210000
DTEND;TZID=Europe/Berlin:20260828T230000
DTSTAMP:20260423T110255
CREATED:20260110T184347Z
LAST-MODIFIED:20260110T184347Z
UID:2583-1787950800-1787958000@woebbelin.de
SUMMARY:Filmgenuss draußen – Open-Air-Kino
DESCRIPTION:Die Gemeinde lädt herzlich zum Open-Air-Kino ein! \nFreuen Sie sich auf einen gemütlichen Kinoabend unter dem Sternenhimmel. \nFür Snacks und Getränke ist gesorgt – bringen Sie Decken oder Campingstühle mit und genießen Sie gemeinsam mit Familie\, Freundinnen oder Nachbarinnen einen unvergesslichen Filmabend.
URL:https://woebbelin.de/events/filmgenuss-draussen-open-air-kino/
LOCATION:Dorfgemeinschaftshaus
END:VEVENT
END:VCALENDAR