BEGIN:VCALENDAR
VERSION:2.0
PRODID:-//Gemeinde Wöbbelin - ECPv6.15.20//NONSGML v1.0//EN
CALSCALE:GREGORIAN
METHOD:PUBLISH
X-WR-CALNAME:Gemeinde Wöbbelin
X-ORIGINAL-URL:https://woebbelin.de
X-WR-CALDESC:Veranstaltungen für Gemeinde Wöbbelin
REFRESH-INTERVAL;VALUE=DURATION:PT1H
X-Robots-Tag:noindex
X-PUBLISHED-TTL:PT1H
BEGIN:VTIMEZONE
TZID:Europe/Berlin
BEGIN:DAYLIGHT
TZOFFSETFROM:+0100
TZOFFSETTO:+0200
TZNAME:CEST
DTSTART:20250330T010000
END:DAYLIGHT
BEGIN:STANDARD
TZOFFSETFROM:+0200
TZOFFSETTO:+0100
TZNAME:CET
DTSTART:20251026T010000
END:STANDARD
BEGIN:DAYLIGHT
TZOFFSETFROM:+0100
TZOFFSETTO:+0200
TZNAME:CEST
DTSTART:20260329T010000
END:DAYLIGHT
BEGIN:STANDARD
TZOFFSETFROM:+0200
TZOFFSETTO:+0100
TZNAME:CET
DTSTART:20261025T010000
END:STANDARD
BEGIN:DAYLIGHT
TZOFFSETFROM:+0100
TZOFFSETTO:+0200
TZNAME:CEST
DTSTART:20270328T010000
END:DAYLIGHT
BEGIN:STANDARD
TZOFFSETFROM:+0200
TZOFFSETTO:+0100
TZNAME:CET
DTSTART:20271031T010000
END:STANDARD
END:VTIMEZONE
BEGIN:VEVENT
DTSTART;VALUE=DATE:20260801
DTEND;VALUE=DATE:20260802
DTSTAMP:20260421T115150
CREATED:20260110T184056Z
LAST-MODIFIED:20260110T184056Z
UID:2581-1785542400-1785628799@woebbelin.de
SUMMARY:Sommerfest der Freiwilligen Feuerwehr Wöbbelin/Dreenkrögen
DESCRIPTION:Die Freiwillige Feuerwehr Wöbbelin/Dreenkrögen lädt herzlich zum Sommerfest ein. \nFreuen Sie sich auf einen bunten Tag für die ganze Familie mit abwechslungsreichem Programm\, leckeren Speisen und Getränken sowie spannenden Vorführungen rund um die Feuerwehr. \nOb Kinder\, Jugendliche oder Erwachsene – für jeden ist etwas geboten. Genießen Sie einen geselligen Tag voller Begegnungen und Gemeinschaft.
URL:https://woebbelin.de/events/sommerfest-der-freiwilligen-feuerwehr-woebbelin-dreenkroegen-2/
LOCATION:FFW Dreenkrögen
END:VEVENT
END:VCALENDAR