BEGIN:VCALENDAR
VERSION:2.0
PRODID:-//Gemeinde Wöbbelin - ECPv6.15.20//NONSGML v1.0//EN
CALSCALE:GREGORIAN
METHOD:PUBLISH
X-WR-CALNAME:Gemeinde Wöbbelin
X-ORIGINAL-URL:https://woebbelin.de
X-WR-CALDESC:Veranstaltungen für Gemeinde Wöbbelin
REFRESH-INTERVAL;VALUE=DURATION:PT1H
X-Robots-Tag:noindex
X-PUBLISHED-TTL:PT1H
BEGIN:VTIMEZONE
TZID:Europe/Berlin
BEGIN:DAYLIGHT
TZOFFSETFROM:+0100
TZOFFSETTO:+0200
TZNAME:CEST
DTSTART:20250330T010000
END:DAYLIGHT
BEGIN:STANDARD
TZOFFSETFROM:+0200
TZOFFSETTO:+0100
TZNAME:CET
DTSTART:20251026T010000
END:STANDARD
BEGIN:DAYLIGHT
TZOFFSETFROM:+0100
TZOFFSETTO:+0200
TZNAME:CEST
DTSTART:20260329T010000
END:DAYLIGHT
BEGIN:STANDARD
TZOFFSETFROM:+0200
TZOFFSETTO:+0100
TZNAME:CET
DTSTART:20261025T010000
END:STANDARD
BEGIN:DAYLIGHT
TZOFFSETFROM:+0100
TZOFFSETTO:+0200
TZNAME:CEST
DTSTART:20270328T010000
END:DAYLIGHT
BEGIN:STANDARD
TZOFFSETFROM:+0200
TZOFFSETTO:+0100
TZNAME:CET
DTSTART:20271031T010000
END:STANDARD
END:VTIMEZONE
BEGIN:VEVENT
DTSTART;TZID=Europe/Berlin:20260308T110000
DTEND;TZID=Europe/Berlin:20260308T130000
DTSTAMP:20260424T005117
CREATED:20260110T174353Z
LAST-MODIFIED:20260110T174353Z
UID:2558-1772967600-1772974800@woebbelin.de
SUMMARY:Frauentagsfrühstück der Gemeinde
DESCRIPTION:Anlässlich des Internationalen Frauentags lädt die Gemeinde herzlich zum Frauentagsfrühstück ein. \nIn angenehmer Atmosphäre möchten wir Frauen jeden Alters die Möglichkeit bieten\, gemeinsam zu frühstücken\, ins Gespräch zu kommen und den Vormittag miteinander zu verbringen. \nDas Frühstück soll Raum für Begegnung\, Austausch und Wertschätzung schaffen.
URL:https://woebbelin.de/events/frauentagsfruehstueck-der-gemeinde/
LOCATION:Grundschule Wöbbelin
END:VEVENT
END:VCALENDAR