BEGIN:VCALENDAR
VERSION:2.0
PRODID:-//Gemeinde Wöbbelin - ECPv6.15.20//NONSGML v1.0//EN
CALSCALE:GREGORIAN
METHOD:PUBLISH
X-WR-CALNAME:Gemeinde Wöbbelin
X-ORIGINAL-URL:https://woebbelin.de
X-WR-CALDESC:Veranstaltungen für Gemeinde Wöbbelin
REFRESH-INTERVAL;VALUE=DURATION:PT1H
X-Robots-Tag:noindex
X-PUBLISHED-TTL:PT1H
BEGIN:VTIMEZONE
TZID:Europe/Berlin
BEGIN:DAYLIGHT
TZOFFSETFROM:+0100
TZOFFSETTO:+0200
TZNAME:CEST
DTSTART:20230326T010000
END:DAYLIGHT
BEGIN:STANDARD
TZOFFSETFROM:+0200
TZOFFSETTO:+0100
TZNAME:CET
DTSTART:20231029T010000
END:STANDARD
BEGIN:DAYLIGHT
TZOFFSETFROM:+0100
TZOFFSETTO:+0200
TZNAME:CEST
DTSTART:20240331T010000
END:DAYLIGHT
BEGIN:STANDARD
TZOFFSETFROM:+0200
TZOFFSETTO:+0100
TZNAME:CET
DTSTART:20241027T010000
END:STANDARD
BEGIN:DAYLIGHT
TZOFFSETFROM:+0100
TZOFFSETTO:+0200
TZNAME:CEST
DTSTART:20250330T010000
END:DAYLIGHT
BEGIN:STANDARD
TZOFFSETFROM:+0200
TZOFFSETTO:+0100
TZNAME:CET
DTSTART:20251026T010000
END:STANDARD
END:VTIMEZONE
BEGIN:VEVENT
DTSTART;TZID=Europe/Berlin:20240308T100000
DTEND;TZID=Europe/Berlin:20240308T130000
DTSTAMP:20260424T210146
CREATED:20231220T083319Z
LAST-MODIFIED:20240206T194247Z
UID:2020-1709892000-1709902800@woebbelin.de
SUMMARY:Frauentagsfeier
DESCRIPTION:Flyer Frauentag Homepage
URL:https://woebbelin.de/events/frauentagsfeier/
LOCATION:Grundschule
END:VEVENT
END:VCALENDAR